BEGIN:VCALENDAR
VERSION:2.0
PRODID:-//Squarespace Inc/Squarespace 6//v6//EN
BEGIN:VEVENT
UID:60271a42832b2156445612b1@squarespace.com
DTSTAMP:20210213T002909Z
DTSTART:20211013T220000Z
DTEND:20211017T040000Z
SUMMARY:OHA Biennial Conference 2021
END:VEVENT
END:VCALENDAR
