BEGIN:VCALENDAR
VERSION:2.0
PRODID:-//Squarespace Inc/Squarespace 6//v6//EN
BEGIN:VEVENT
UID:5e40d4f9ff19c478903bc37e@squarespace.com
DTSTAMP:20210220T021425Z
DTSTART:20200210T040000Z
DTEND:20211231T050000Z
SUMMARY:Upcoming PHA events around Australia
END:VEVENT
END:VCALENDAR
