BEGIN:VCALENDAR
VERSION:2.0
PRODID:-//Squarespace Inc/Squarespace 6//v6//EN
BEGIN:VEVENT
UID:5b74e029aa4a9903e4cc5ec4@squarespace.com
DTSTAMP:20191118T031744Z
DTSTART:20180829T223000Z
DTEND:20180831T063000Z
SUMMARY:Marking Time. PHA National Conference. State Library of NSW\, Sydne
 y
END:VEVENT
END:VCALENDAR
